BEGIN:VCALENDAR
VERSION:2.0
PRODID:-//AdventHealth Careers - ECPv6.15.12.2//NONSGML v1.0//EN
CALSCALE:GREGORIAN
METHOD:PUBLISH
X-ORIGINAL-URL:https://jobs.adventhealth.com
X-WR-CALDESC:Events for AdventHealth Careers
REFRESH-INTERVAL;VALUE=DURATION:PT1H
X-Robots-Tag:noindex
X-PUBLISHED-TTL:PT1H
BEGIN:VTIMEZONE
TZID:America/New_York
BEGIN:DAYLIGHT
TZOFFSETFROM:-0500
TZOFFSETTO:-0400
TZNAME:EDT
DTSTART:20250309T070000
END:DAYLIGHT
BEGIN:STANDARD
TZOFFSETFROM:-0400
TZOFFSETTO:-0500
TZNAME:EST
DTSTART:20251102T060000
END:STANDARD
BEGIN:DAYLIGHT
TZOFFSETFROM:-0500
TZOFFSETTO:-0400
TZNAME:EDT
DTSTART:20260308T070000
END:DAYLIGHT
BEGIN:STANDARD
TZOFFSETFROM:-0400
TZOFFSETTO:-0500
TZNAME:EST
DTSTART:20261101T060000
END:STANDARD
BEGIN:DAYLIGHT
TZOFFSETFROM:-0500
TZOFFSETTO:-0400
TZNAME:EDT
DTSTART:20270314T070000
END:DAYLIGHT
BEGIN:STANDARD
TZOFFSETFROM:-0400
TZOFFSETTO:-0500
TZNAME:EST
DTSTART:20271107T060000
END:STANDARD
END:VTIMEZONE
BEGIN:VTIMEZONE
TZID:America/Chicago
BEGIN:DAYLIGHT
TZOFFSETFROM:-0600
TZOFFSETTO:-0500
TZNAME:CDT
DTSTART:20250309T080000
END:DAYLIGHT
BEGIN:STANDARD
TZOFFSETFROM:-0500
TZOFFSETTO:-0600
TZNAME:CST
DTSTART:20251102T070000
END:STANDARD
BEGIN:DAYLIGHT
TZOFFSETFROM:-0600
TZOFFSETTO:-0500
TZNAME:CDT
DTSTART:20260308T080000
END:DAYLIGHT
BEGIN:STANDARD
TZOFFSETFROM:-0500
TZOFFSETTO:-0600
TZNAME:CST
DTSTART:20261101T070000
END:STANDARD
BEGIN:DAYLIGHT
TZOFFSETFROM:-0600
TZOFFSETTO:-0500
TZNAME:CDT
DTSTART:20270314T080000
END:DAYLIGHT
BEGIN:STANDARD
TZOFFSETFROM:-0500
TZOFFSETTO:-0600
TZNAME:CST
DTSTART:20271107T070000
END:STANDARD
END:VTIMEZONE
BEGIN:VEVENT
DTSTART;TZID=America/New_York:20260428T133000
DTEND;TZID=America/New_York:20260428T150000
DTSTAMP:20260422T064547
CREATED:20260410T161706Z
LAST-MODIFIED:20260410T161706Z
UID:10000051-1777383000-1777388400@jobs.adventhealth.com
SUMMARY:AdventHealth Redmond Graduate Nurse Match Day
DESCRIPTION:Starting your nursing career is more than finding a job. It’s finding a place where you can grow\, feel supported\, and make a meaningful difference. \nAt AdventHealth Redmond\, a faith-based health system focused on whole-person care\, our Graduate Nurse Match Day is designed to help you take that next step with confidence. Beginning March 31 and happening every Tuesday\, this in-person experience gives new and upcoming nursing graduates the opportunity to connect directly with our leaders and care teams across all departments. \nDuring this event\, you can participate in on-the-spot interviews\, tour our hospital\, and even receive same-day offers. More importantly\, you’ll get a feel for a culture rooted in compassion\, teamwork\, and a shared mission to extend the healing ministry of Christ. \nCome discover where your calling can grow and how you can help others feel whole in body\, mind\, and spirit. \nWhen: Every Tuesday starting March 31\, 2026 | 1:30–3:00 pmWhere: AdventHealth Redmond Cafeteria501 Redmond Rd\, Rome\, GA 30165 \nRegister
URL:https://jobs.adventhealth.com/event/adventhealth-redmond-graduate-nurse-match-day-4/
LOCATION:AdventHealth Redmond\, 501 Redmond Rd\, Rome\, Georgia\, 30165\, United States
END:VEVENT
BEGIN:VEVENT
DTSTART;TZID=America/Chicago:20260428T150000
DTEND;TZID=America/Chicago:20260428T190000
DTSTAMP:20260422T064547
CREATED:20260330T154630Z
LAST-MODIFIED:20260330T154630Z
UID:10000046-1777388400-1777402800@jobs.adventhealth.com
SUMMARY:UChicago Medicine AdventHealth La Grange Nursing\, Cath Lab & Respiratory Therapy Hiring Event
DESCRIPTION:Discover how your calling can make a profound impact. UChicago Medicine AdventHealth La Grange welcomes compassionate clinical professionals to explore career opportunities and learn more about joining our exceptional care team. \nHiring leaders will be onsite conducting in person interviews\, with competitive same day offers extended to qualified candidates. \nJoin a mission driven organization committed to caring for the whole person: body\, mind\, and spirit\, and experience a workplace where you are supported\, valued\, and empowered to thrive. \nWe are hiring for the following departments and positions: \nUChicago Medicine AdventHealth La Grange \n\nCath Lab Technicians\nRegistered Nurses (All Units)\nRespiratory Therapists\n\nHome Health & Hospice \n\nField Licensed Practical Nurses\nHospice Aides\nRegistered Nurses\n\nAll the benefits and perks you need for you and your family: \n\nBenefits from Day One: Medical\, Dental\, Vision Insurance\, Life Insurance\, Disability Insurance\nRelocation assistance for applicants outside of 50-mile radius for eligible candidates\nPaid Time Off from Day One\n403-B Retirement Plan\n4 Weeks 100% Paid Parental Leave\nSign-On Bonus for eligible candidates\nContinuing Educations Opportunities\nCareer Development\nWhole Person Well-being Resources\nMental Health Resources and Support\nPet Benefits\n\nPRE-REGISTER FOR EVENT\, WALK INS WILL BE ACCEPTED. \nPLEASE BRING PRINTED COPY OF YOUR UPDATED RESUME TO INTERVIEW DAY. \nRegister
URL:https://jobs.adventhealth.com/event/uchicago-medicine-adventhealth-la-grange-nursing-cath-lab-respiratory-therapy-hiring-event/
LOCATION:UChicago Medicine AdventHealth La Grange\, 5101 Willow Springs Rd\, La Grange\, Illinois\, 60525\, United States
END:VEVENT
END:VCALENDAR